BEGIN:VCALENDAR
VERSION:2.0
PRODID:-//Allard Owners Club - ECPv6.15.17.1//NONSGML v1.0//EN
CALSCALE:GREGORIAN
METHOD:PUBLISH
X-WR-CALNAME:Allard Owners Club
X-ORIGINAL-URL:https://www.allardownersclub.org
X-WR-CALDESC:Events for Allard Owners Club
REFRESH-INTERVAL;VALUE=DURATION:PT1H
X-Robots-Tag:noindex
X-PUBLISHED-TTL:PT1H
BEGIN:VTIMEZONE
TZID:Europe/London
BEGIN:DAYLIGHT
TZOFFSETFROM:+0000
TZOFFSETTO:+0100
TZNAME:BST
DTSTART:20220327T010000
END:DAYLIGHT
BEGIN:STANDARD
TZOFFSETFROM:+0100
TZOFFSETTO:+0000
TZNAME:GMT
DTSTART:20221030T010000
END:STANDARD
BEGIN:DAYLIGHT
TZOFFSETFROM:+0000
TZOFFSETTO:+0100
TZNAME:BST
DTSTART:20230326T010000
END:DAYLIGHT
BEGIN:STANDARD
TZOFFSETFROM:+0100
TZOFFSETTO:+0000
TZNAME:GMT
DTSTART:20231029T010000
END:STANDARD
BEGIN:DAYLIGHT
TZOFFSETFROM:+0000
TZOFFSETTO:+0100
TZNAME:BST
DTSTART:20240331T010000
END:DAYLIGHT
BEGIN:STANDARD
TZOFFSETFROM:+0100
TZOFFSETTO:+0000
TZNAME:GMT
DTSTART:20241027T010000
END:STANDARD
BEGIN:DAYLIGHT
TZOFFSETFROM:+0000
TZOFFSETTO:+0100
TZNAME:BST
DTSTART:20250330T010000
END:DAYLIGHT
BEGIN:STANDARD
TZOFFSETFROM:+0100
TZOFFSETTO:+0000
TZNAME:GMT
DTSTART:20251026T010000
END:STANDARD
END:VTIMEZONE
BEGIN:VEVENT
DTSTART;VALUE=DATE:20240322
DTEND;VALUE=DATE:20240325
DTSTAMP:20260423T131856
CREATED:20240223T061449Z
LAST-MODIFIED:20240703T081749Z
UID:6672-1711065600-1711324799@www.allardownersclub.org
SUMMARY:NEC Restoration Show
DESCRIPTION:Book your tickets today to the NEC Restoration Show at the NEC\n\nClub members are eligible for a discount on show tickets using the code S24CC647\n\nwww.necrestorationshow.com
URL:https://www.allardownersclub.org/event/nec-restoration-show/
LOCATION:Birmingham NEC\, Pendigo Way\, Marston Green\, Birmingham\, B40 1NT\, United Kingdom
END:VEVENT
BEGIN:VEVENT
DTSTART;VALUE=DATE:20240316
DTEND;VALUE=DATE:20240318
DTSTAMP:20260423T131856
CREATED:20231120T064729Z
LAST-MODIFIED:20231120T064729Z
UID:6435-1710547200-1710719999@www.allardownersclub.org
SUMMARY:VSCC Herefordshire Trial
DESCRIPTION:The VSCC trials season leaps into spring with the Herefordshire Trial. The two-day event\, which features Garfitt’s Gamble – an optional stop-restart – will start at lunchtime on Saturday and go through to a mid-afternoon finish on Sunday. It is a great recipe for a relaxed weekend of motor sport\, allowing time to travel which avoids both the Friday night and Sunday evening commuter scrums.
URL:https://www.allardownersclub.org/event/vscc-herefordshire-trial/
LOCATION:Cheltenham
END:VEVENT
BEGIN:VEVENT
DTSTART;VALUE=DATE:20240224
DTEND;VALUE=DATE:20240225
DTSTAMP:20260423T131857
CREATED:20231120T064510Z
LAST-MODIFIED:20231120T064510Z
UID:6433-1708732800-1708819199@www.allardownersclub.org
SUMMARY:VSCC Exmoor Trial
DESCRIPTION:Once again the VSCC are venturing south-west for the clubs annual VSCC Exmoor Trial. \nWith its thick forests\, muddy fields and rolling moors\, Exmoor is undoubtedly a stunning location to trial\, just be sure to wrap up warm as Winter is sure to be holding us in a grip of iron.
URL:https://www.allardownersclub.org/event/vscc-exmoor-trial/
LOCATION:Cheltenham
END:VEVENT
BEGIN:VEVENT
DTSTART;VALUE=DATE:20240217
DTEND;VALUE=DATE:20240218
DTSTAMP:20260423T131857
CREATED:20231120T064331Z
LAST-MODIFIED:20231120T064331Z
UID:6430-1708128000-1708214399@www.allardownersclub.org
SUMMARY:Silverstone Pomeroy Trophy
DESCRIPTION:Everything from pre-war racers to modern day saloons and supercars\, VSCC kicks off the race season with the historic Pomeroy Trophy.
URL:https://www.allardownersclub.org/event/silverstone-pomeroy-trophy/
LOCATION:Silverstone\, Silverstone Circuit\, Towcester\, Northamptonshire\, NN12 8TN\, United Kingdom
END:VEVENT
BEGIN:VEVENT
DTSTART;VALUE=DATE:20240128
DTEND;VALUE=DATE:20240129
DTSTAMP:20260423T131857
CREATED:20231120T064033Z
LAST-MODIFIED:20231120T064033Z
UID:6426-1706400000-1706486399@www.allardownersclub.org
SUMMARY:Brooklands Driving Tests
DESCRIPTION:A Driving Test is a great way to get started in Vintage Motor Sport. Events are held wholly on private land and consist of a number of ‘Tests’ on which competitors have to follow a fixed route between markers in the fastest time possible. Should a competitor hit a marker or follow the wrong route they receive penalties. The competitor with the least number of penalties and the fastest time wins. \nTests may include forward and reverse manoeuvres\, ‘garage parking’\, figures-of-eight or parallel parking. The trick is to memorise the test diagram. A typical event will be made up of approximately twelve tests. \nThe only difference between Driving Tests and Auto-solo Driving Tests is the latter do not include any reversing in the individual tests.
URL:https://www.allardownersclub.org/event/brooklands-driving-tests/
LOCATION:Brooklands\, Brooklands Museum\, Weybridge\, Surrey\, KT13 0SL\, United Kingdom
END:VEVENT
BEGIN:VEVENT
DTSTART;VALUE=DATE:20240105
DTEND;VALUE=DATE:20240107
DTSTAMP:20260423T131857
CREATED:20231120T063310Z
LAST-MODIFIED:20231120T063350Z
UID:6421-1704412800-1704585599@www.allardownersclub.org
SUMMARY:Exeter Trial
DESCRIPTION:A challenging long distance trial that takes in some of England’s most historic unsealed roads.\nAdd the unpredictability of extreme winter weather and the Exeter Trial has become a true test of grit for man\, woman and machine. \nOriginally promoted in 1910 as a London to Exeter (and back) reliability trial\, the Exeter Trial (as it came to be known from 1935) is the newest of the MCCs ‘big three’ events\, and was initially held on Boxing Day. \nNow held in early January\, the event is an opportunity for motorists to test their grit against the prevailing conditions on historic unsealed roads\, arguably making it the most authentic of our events to its heritage.
URL:https://www.allardownersclub.org/event/exeter-trial/
LOCATION:Cheltenham
END:VEVENT
BEGIN:VEVENT
DTSTART;VALUE=DATE:20231110
DTEND;VALUE=DATE:20231113
DTSTAMP:20260423T131857
CREATED:20230922T071202Z
LAST-MODIFIED:20240213T081035Z
UID:806-1699574400-1699833599@www.allardownersclub.org
SUMMARY:Classic Motor Show 2023
DESCRIPTION:If you are a member of the Allard Owners Club you will be eligible for a club discount – details here
URL:https://www.allardownersclub.org/event/classic-motor-show-2023/
LOCATION:Birmingham NEC\, Pendigo Way\, Marston Green\, Birmingham\, B40 1NT\, United Kingdom
CATEGORIES:Past Events
END:VEVENT
BEGIN:VEVENT
DTSTART;TZID=Europe/London:20231104T100000
DTEND;TZID=Europe/London:20231104T200000
DTSTAMP:20260423T131857
CREATED:20230928T080008Z
LAST-MODIFIED:20230928T080008Z
UID:971-1699092000-1699128000@www.allardownersclub.org
SUMMARY:Rallye Prescott
DESCRIPTION:A competitive hill climb dedicated to rallying and rally cars\, with both daylight and darkness hill runs.
URL:https://www.allardownersclub.org/event/rallye-prescott/
LOCATION:Prescott Hill Climb\, Bugatti Owners Club\, Gotherington\, Cheltenham\, GL52 9RE\, United Kingdom
END:VEVENT
BEGIN:VEVENT
DTSTART;VALUE=DATE:20231021
DTEND;VALUE=DATE:20231023
DTSTAMP:20260423T131857
CREATED:20231004T123825Z
LAST-MODIFIED:20231004T123825Z
UID:1030-1697846400-1698019199@www.allardownersclub.org
SUMMARY:Motor Racing Legends @ Silverstone
DESCRIPTION:Motor Racing Legends takes on the Grand Prix Circuit showcasing some of the top end of historic racing with some of the rarest and most important cars in motorsport. Join us for an action-packed weekend that promises to be full of wheel-to-wheel battles\, some may say\, legendary battles.
URL:https://www.allardownersclub.org/event/motor-racing-legends-silverstone/
LOCATION:Cheltenham
END:VEVENT
END:VCALENDAR