BEGIN:VCALENDAR
VERSION:2.0
PRODID:-//Allard Owners Club - ECPv6.15.17.1//NONSGML v1.0//EN
CALSCALE:GREGORIAN
METHOD:PUBLISH
X-WR-CALNAME:Allard Owners Club
X-ORIGINAL-URL:https://www.allardownersclub.org
X-WR-CALDESC:Events for Allard Owners Club
REFRESH-INTERVAL;VALUE=DURATION:PT1H
X-Robots-Tag:noindex
X-PUBLISHED-TTL:PT1H
BEGIN:VTIMEZONE
TZID:Europe/London
BEGIN:DAYLIGHT
TZOFFSETFROM:+0000
TZOFFSETTO:+0100
TZNAME:BST
DTSTART:20250330T010000
END:DAYLIGHT
BEGIN:STANDARD
TZOFFSETFROM:+0100
TZOFFSETTO:+0000
TZNAME:GMT
DTSTART:20251026T010000
END:STANDARD
BEGIN:DAYLIGHT
TZOFFSETFROM:+0000
TZOFFSETTO:+0100
TZNAME:BST
DTSTART:20260329T010000
END:DAYLIGHT
BEGIN:STANDARD
TZOFFSETFROM:+0100
TZOFFSETTO:+0000
TZNAME:GMT
DTSTART:20261025T010000
END:STANDARD
BEGIN:DAYLIGHT
TZOFFSETFROM:+0000
TZOFFSETTO:+0100
TZNAME:BST
DTSTART:20270328T010000
END:DAYLIGHT
BEGIN:STANDARD
TZOFFSETFROM:+0100
TZOFFSETTO:+0000
TZNAME:GMT
DTSTART:20271031T010000
END:STANDARD
END:VTIMEZONE
BEGIN:VEVENT
DTSTART;TZID=Europe/London:20260426T000000
DTEND;TZID=Europe/London:20260426T235959
DTSTAMP:20260421T121743
CREATED:20251023T184325Z
LAST-MODIFIED:20251023T191022Z
UID:11240-1777161600-1777247999@www.allardownersclub.org
SUMMARY:Bentley Drivers Club Sprint at Mallory park.
DESCRIPTION:2026 – AOC Sprint and Hillclimb championship – event no 1
URL:https://www.allardownersclub.org/event/11240/
END:VEVENT
BEGIN:VEVENT
DTSTART;TZID=Europe/London:20260509T000000
DTEND;TZID=Europe/London:20260509T235959
DTSTAMP:20260421T121743
CREATED:20251023T123123Z
LAST-MODIFIED:20251023T184904Z
UID:11225-1778284800-1778371199@www.allardownersclub.org
SUMMARY:500 Owners Association at Wiscombe Park
DESCRIPTION:2026 – AOC Sprint and Hill Climb championship – event No 2
URL:https://www.allardownersclub.org/event/500-acc-wiscomb-park/
LOCATION:Wiscombe Park Hill Climb\, Wiscombe Park\, Colyton\, Devon\, EX24 6JE\, United Kingdom
END:VEVENT
BEGIN:VEVENT
DTSTART;TZID=Europe/London:20260510T000000
DTEND;TZID=Europe/London:20260510T235959
DTSTAMP:20260421T121743
CREATED:20251023T123115Z
LAST-MODIFIED:20251112T105212Z
UID:11223-1778371200-1778457599@www.allardownersclub.org
SUMMARY:VSCC Wiscombe Park Hill Climb
DESCRIPTION:This is the VSCC Wiscombe Park event which is the day after the AOC 500 Owners Association event. Entries Will be open to VSCC eligible and AOC approved Allards
URL:https://www.allardownersclub.org/event/vscc-wiscombe-park-hill-climb/
LOCATION:Wiscombe Park Hill Climb\, Wiscombe Park\, Colyton\, Devon\, EX24 6JE\, United Kingdom
END:VEVENT
BEGIN:VEVENT
DTSTART;TZID=Europe/London:20260524T000000
DTEND;TZID=Europe/London:20260524T235959
DTSTAMP:20260421T121743
CREATED:20251023T190159Z
LAST-MODIFIED:20251025T121953Z
UID:11246-1779580800-1779667199@www.allardownersclub.org
SUMMARY:Bugatti Owners Club -  Prescott - Historique Day 2
DESCRIPTION:2026 – AOC Sprint and Hill Climb championship – event No 3 – BOC  ‘Historique’  Day 2 at Prescott
URL:https://www.allardownersclub.org/event/bugatti-owners-club-historique-day-2-prescott/
LOCATION:Prescott Hill Climb\, Bugatti Owners Club\, Gotherington\, Cheltenham\, GL52 9RE\, United Kingdom
CATEGORIES:Hill Climbs
END:VEVENT
BEGIN:VEVENT
DTSTART;TZID=Europe/London:20260606T000000
DTEND;TZID=Europe/London:20260606T235959
DTSTAMP:20260421T121743
CREATED:20251023T191722Z
LAST-MODIFIED:20251023T193338Z
UID:11257-1780704000-1780790399@www.allardownersclub.org
SUMMARY:MAC - Shelsley Walsh - Best of British
DESCRIPTION:2026 – AOC Sprint and Hill Climb championship – Event No 4 – Best of British Day 1
URL:https://www.allardownersclub.org/event/mac-shelsley-walsh/
LOCATION:Shelsley Walsh Hill Climb\, Shelsley Walsh Hill Climb\, Worcester\, Worcestershire\, WR6 6RP\, United Kingdom
END:VEVENT
BEGIN:VEVENT
DTSTART;TZID=Europe/London:20260621T000000
DTEND;TZID=Europe/London:20260621T235959
DTSTAMP:20260421T121743
CREATED:20260408T081257Z
LAST-MODIFIED:20260408T081258Z
UID:12117-1782000000-1782086399@www.allardownersclub.org
SUMMARY:Beamish Reliability Run
DESCRIPTION:A HERITAGE RUN FOR HERITAGE VEHICLES UPON A HERITAGE ROUTE \n\n\n\nThe north’s premier old motoring event namely the Beamish Run is to go ahead Sunday 21st June 2026 for vintage vehicles up to 1956 and motorcycles up to 1961. \n\n\n\n\n\n\n\n\n\n\n\n\n\nhttps://www.brtrail.com
URL:https://www.allardownersclub.org/event/beamish-reliability-run/
END:VEVENT
BEGIN:VEVENT
DTSTART;TZID=Europe/London:20260718T000000
DTEND;TZID=Europe/London:20260718T235959
DTSTAMP:20260421T121743
CREATED:20251023T192955Z
LAST-MODIFIED:20251025T120938Z
UID:11261-1784332800-1784419199@www.allardownersclub.org
SUMMARY:MAC - Shelsley Walsh - Classic Nostalgia Day 1
DESCRIPTION:2026 – AOC Sprint and Hill climb championship – Event No 5 – Saturday 18th July and Sunday 19th – MAC Classic Nostalgia – 2 Day event
URL:https://www.allardownersclub.org/event/shelsley-walsh-classic-nostalgia-2/
LOCATION:Shelsley Walsh Hill Climb\, Shelsley Walsh Hill Climb\, Worcester\, Worcestershire\, WR6 6RP\, United Kingdom
END:VEVENT
BEGIN:VEVENT
DTSTART;TZID=Europe/London:20260719T000000
DTEND;TZID=Europe/London:20260719T235959
DTSTAMP:20260421T121743
CREATED:20251025T120752Z
LAST-MODIFIED:20251025T121217Z
UID:11269-1784419200-1784505599@www.allardownersclub.org
SUMMARY:MAC – Shelsley Walsh – Classic Nostalgia  Day 2
DESCRIPTION:2026 – AOC Sprint and Hill climb championship – Event No 5 – Saturday 18th July and Sunday 19th
URL:https://www.allardownersclub.org/event/mac-shelsley-walsh-classic-nostalgia-day2/
LOCATION:Shelsley Walsh Hill Climb\, Shelsley Walsh Hill Climb\, Worcester\, Worcestershire\, WR6 6RP\, United Kingdom
END:VEVENT
BEGIN:VEVENT
DTSTART;TZID=Europe/London:20260815T000000
DTEND;TZID=Europe/London:20260815T235959
DTSTAMP:20260421T121743
CREATED:20260217T093921Z
LAST-MODIFIED:20260218T093003Z
UID:11935-1786752000-1786838399@www.allardownersclub.org
SUMMARY:Summer Gathering (day 1)
DESCRIPTION:more info coming soon…
URL:https://www.allardownersclub.org/event/summer-gathering-2026/
LOCATION:Silverstone\, Silverstone Circuit\, Towcester\, Northamptonshire\, NN12 8TN\, United Kingdom
END:VEVENT
BEGIN:VEVENT
DTSTART;TZID=Europe/London:20260816T000000
DTEND;TZID=Europe/London:20260816T235959
DTSTAMP:20260421T121743
CREATED:20260217T095211Z
LAST-MODIFIED:20260217T095216Z
UID:11938-1786838400-1786924799@www.allardownersclub.org
SUMMARY:Summer Gathering (day 2)
DESCRIPTION:Venue tbc (but somewhere near Silverstone) \n\n\n\nMore info coming soon…
URL:https://www.allardownersclub.org/event/summer-gathering-day-2/
END:VEVENT
BEGIN:VEVENT
DTSTART;TZID=Europe/London:20261003T000000
DTEND;TZID=Europe/London:20261003T235959
DTSTAMP:20260421T121743
CREATED:20251025T121332Z
LAST-MODIFIED:20251025T121747Z
UID:11273-1790985600-1791071999@www.allardownersclub.org
SUMMARY:Bugatti Owners Club – Prescott - Season finale
DESCRIPTION:2026 – AOC Sprint and Hill Climb championship – event No 6 – BOC ‘Season Finale’ at Prescott
URL:https://www.allardownersclub.org/event/11273/
LOCATION:Prescott Hill Climb\, Bugatti Owners Club\, Gotherington\, Cheltenham\, GL52 9RE\, United Kingdom
END:VEVENT
BEGIN:VEVENT
DTSTART;TZID=Europe/London:20261009T000000
DTEND;TZID=Europe/London:20261011T235959
DTSTAMP:20260421T121743
CREATED:20260408T080736Z
LAST-MODIFIED:20260408T080737Z
UID:12115-1791504000-1791763199@www.allardownersclub.org
SUMMARY:North America "Heart of Virginia Allard Rally" 2026
DESCRIPTION:Registration is now open for the 2026 North America “Heart of Virginia Allard Rally” to be held Oct 9-11 in Lynchburg\, Virginia. Any member or any Allard owner is welcome\, for details\, registration form and costs\, and hotel information\, please contact Lee Allard! We are looking forward to a good turnout and a great rally!
URL:https://www.allardownersclub.org/event/north-america-heart-of-virginia-allard-rally-2026/
END:VEVENT
END:VCALENDAR