BEGIN:VCALENDAR
VERSION:2.0
PRODID:-//Allard Owners Club - ECPv6.15.17.1//NONSGML v1.0//EN
CALSCALE:GREGORIAN
METHOD:PUBLISH
X-WR-CALNAME:Allard Owners Club
X-ORIGINAL-URL:https://www.allardownersclub.org
X-WR-CALDESC:Events for Allard Owners Club
REFRESH-INTERVAL;VALUE=DURATION:PT1H
X-Robots-Tag:noindex
X-PUBLISHED-TTL:PT1H
BEGIN:VTIMEZONE
TZID:Europe/London
BEGIN:DAYLIGHT
TZOFFSETFROM:+0000
TZOFFSETTO:+0100
TZNAME:BST
DTSTART:20230326T010000
END:DAYLIGHT
BEGIN:STANDARD
TZOFFSETFROM:+0100
TZOFFSETTO:+0000
TZNAME:GMT
DTSTART:20231029T010000
END:STANDARD
BEGIN:DAYLIGHT
TZOFFSETFROM:+0000
TZOFFSETTO:+0100
TZNAME:BST
DTSTART:20240331T010000
END:DAYLIGHT
BEGIN:STANDARD
TZOFFSETFROM:+0100
TZOFFSETTO:+0000
TZNAME:GMT
DTSTART:20241027T010000
END:STANDARD
BEGIN:DAYLIGHT
TZOFFSETFROM:+0000
TZOFFSETTO:+0100
TZNAME:BST
DTSTART:20250330T010000
END:DAYLIGHT
BEGIN:STANDARD
TZOFFSETFROM:+0100
TZOFFSETTO:+0000
TZNAME:GMT
DTSTART:20251026T010000
END:STANDARD
BEGIN:DAYLIGHT
TZOFFSETFROM:+0000
TZOFFSETTO:+0100
TZNAME:BST
DTSTART:20260329T010000
END:DAYLIGHT
BEGIN:STANDARD
TZOFFSETFROM:+0100
TZOFFSETTO:+0000
TZNAME:GMT
DTSTART:20261025T010000
END:STANDARD
END:VTIMEZONE
BEGIN:VEVENT
DTSTART;TZID=Europe/London:20251107T080000
DTEND;TZID=Europe/London:20251109T170000
DTSTAMP:20260422T081949
CREATED:20250530T112648Z
LAST-MODIFIED:20250530T112953Z
UID:10785-1762502400-1762707600@www.allardownersclub.org
SUMMARY:NEC Classic Motor Show 2025
DESCRIPTION:Come and visit the Allard Owners Club at the UK’s largest & best-loved classic motor show. \n\n\n\nYou can get a discount on your tickets using the club code CCCNOV5640 \n\n\n\n\nCatch your favourite motoring celebrities on the live stage.\n\n\n\nSee a diverse collection of over 3\,000 fresh classic cars and bikes on display that you’ve never seen before\, the most in the UK!\n\n\n\nConnect with a over 310 motoring clubs.\n\n\n\nBrowse and shop from 430+ specialist traders\, including the UK’s largest indoor autojumble.\n\n\n\nExciting features including a live Podcast Lounge and a huge DadCars Family Zone.\n\n\n\nSee the usual must-haves: spectacular displays\, celebrity appearances\, and expert insights.\n\n\n\nChoose from over 600+ classic cars and bikes on sale.
URL:https://www.allardownersclub.org/event/nec-classic-motor-show-2025/
LOCATION:Birmingham NEC\, Pendigo Way\, Marston Green\, Birmingham\, B40 1NT\, United Kingdom
CATEGORIES:Social
END:VEVENT
BEGIN:VEVENT
DTSTART;TZID=Europe/London:20250810T000000
DTEND;TZID=Europe/London:20250810T235959
DTSTAMP:20260422T081949
CREATED:20241217T184115Z
LAST-MODIFIED:20250530T112800Z
UID:10344-1754784000-1754870399@www.allardownersclub.org
SUMMARY:AOC Summer Gathering
DESCRIPTION:This years Allard summer gathering will be held at the Industry and Supply depot at Weedon just off the A5 on Sunday 10 August 2025.For the ones that want to travel down on the Saturday we will be staying at the Aviator hotel in Sywell for a meal and maybe a drink or 2.For anyone who wants to make a full weekend of cars\, there is the Bentley Drivers Club meeting at Silverstone on the Saturday which Rick and Ron will try and get our own area to park in. \n\n\n\nThe Aviator hotel gets booked up very quickly for big events in the area\, so we need to book rooms a.s.a.p. Rick has reserved 10 rooms in his name. \n\n\n\nPlease phone the Aviator on 01604 642111 and mention you’re with the Allard Owners Club\, or book online at www.aviatorhotel.co.uk \n\n\n\nTo book your cars into the show go to www.greatbritishmotorshows.com and fill in the form adding you’re with the Allard Owners Club – the earlier you book the cheaper it is. \n\n\n\nWhen you have booked the hotel and / or your cars in please let Rick know so I can add you to the list. \n\n\n\nWe had 14 cars last year lets try for at least 20 this year.
URL:https://www.allardownersclub.org/event/aoc-summer-gathering/
LOCATION:Weedon Bec\, Industry & Supply Co\, Unit B2\, Building 14\, Ground Floor\, The Depot\, Weedon Bec\, Northamptonshire\, NN7 4PS\, United Kingdom
CATEGORIES:Social
ORGANIZER;CN="Weedon Bec":MAILTO:sam@industryandsupply.co.uk
END:VEVENT
BEGIN:VEVENT
DTSTART;TZID=Europe/London:20241026T120000
DTEND;TZID=Europe/London:20241026T170000
DTSTAMP:20260422T081949
CREATED:20240926T053114Z
LAST-MODIFIED:20240926T060313Z
UID:10024-1729944000-1729962000@www.allardownersclub.org
SUMMARY:Autumn Lunch 2024
DESCRIPTION:The Autumn Lunch will be held at the usual venue of The Falcon Hotel\, Uppingham on 26th October. \n\n\n\nSeating for lunch will be at 1pm but I imagine there will be people congregating in the bar from around 12. \n\n\n\nSample menu can be downloaded / viewed below. \n\n\n\nAutumn Lunch Sample MenuDownload
URL:https://www.allardownersclub.org/event/autumn-lunch-2024/
LOCATION:Falcon Hotel\, The Market Place\, Uppingham\, LE15 9PY\, United Kingdom
CATEGORIES:Social
END:VEVENT
BEGIN:VEVENT
DTSTART;VALUE=DATE:20240906
DTEND;VALUE=DATE:20240909
DTSTAMP:20260422T081950
CREATED:20231023T062847Z
LAST-MODIFIED:20240301T061342Z
UID:1120-1725580800-1725839999@www.allardownersclub.org
SUMMARY:Goodwood Revival
DESCRIPTION:Revive & Thrive \nThe only historic motor race meeting to be staged entirely in a period theme\, Goodwood Revival is an immersive celebration of iconic cars and fashion. \nRevive & Thrive is the modern community that drives Revival forward\, inspiring us all with creative ways to rethink\, repair and re-wear.
URL:https://www.allardownersclub.org/event/goodwood-revival/
LOCATION:Goodwood\, Goodwood Motor Circuit\, Chichester\, PO18 0PH\, United Kingdom
CATEGORIES:Social
END:VEVENT
END:VCALENDAR