BEGIN:VCALENDAR
VERSION:2.0
PRODID:-//Allard Owners Club - ECPv6.15.17.1//NONSGML v1.0//EN
CALSCALE:GREGORIAN
METHOD:PUBLISH
X-WR-CALNAME:Allard Owners Club
X-ORIGINAL-URL:https://www.allardownersclub.org
X-WR-CALDESC:Events for Allard Owners Club
REFRESH-INTERVAL;VALUE=DURATION:PT1H
X-Robots-Tag:noindex
X-PUBLISHED-TTL:PT1H
BEGIN:VTIMEZONE
TZID:Europe/London
BEGIN:DAYLIGHT
TZOFFSETFROM:+0000
TZOFFSETTO:+0100
TZNAME:BST
DTSTART:20230326T010000
END:DAYLIGHT
BEGIN:STANDARD
TZOFFSETFROM:+0100
TZOFFSETTO:+0000
TZNAME:GMT
DTSTART:20231029T010000
END:STANDARD
BEGIN:DAYLIGHT
TZOFFSETFROM:+0000
TZOFFSETTO:+0100
TZNAME:BST
DTSTART:20240331T010000
END:DAYLIGHT
BEGIN:STANDARD
TZOFFSETFROM:+0100
TZOFFSETTO:+0000
TZNAME:GMT
DTSTART:20241027T010000
END:STANDARD
BEGIN:DAYLIGHT
TZOFFSETFROM:+0000
TZOFFSETTO:+0100
TZNAME:BST
DTSTART:20250330T010000
END:DAYLIGHT
BEGIN:STANDARD
TZOFFSETFROM:+0100
TZOFFSETTO:+0000
TZNAME:GMT
DTSTART:20251026T010000
END:STANDARD
END:VTIMEZONE
BEGIN:VEVENT
DTSTART;VALUE=DATE:20241026
DTEND;VALUE=DATE:20241028
DTSTAMP:20260422T022339
CREATED:20240213T080333Z
LAST-MODIFIED:20240720T104604Z
UID:6521-1729900800-1730073599@www.allardownersclub.org
SUMMARY:Cotswold Trial (VSCC)
DESCRIPTION:The third round of the 2024/25 trials season. Expect plenty of mud and challenging sections as competitors take to the hills amidst the grip of Autumn! The trial will take part on both a new date and new venue in 2025 moving to Gretton on the 26th & 27th October
URL:https://www.allardownersclub.org/event/cotswold-trial-vscc/
CATEGORIES:Competition,Trials
END:VEVENT
BEGIN:VEVENT
DTSTART;VALUE=DATE:20240427
DTEND;VALUE=DATE:20240428
DTSTAMP:20260422T022339
CREATED:20231120T064830Z
LAST-MODIFIED:20240301T061406Z
UID:6437-1714176000-1714262399@www.allardownersclub.org
SUMMARY:Diffey Brothers' Wessex Trial
DESCRIPTION:As part of the VSCC initiative to include some post war cars the VSCC are running a new trial for post war Heritage Trials cars. The trial will not be part of the VSCC Trials Championship. \nTo deliver this event the VSCC have teamed up with the Historic Sporting Trial Association (HSTA) who announced in 2020 they would develop a new concept called Heritage Sporting Trials. \nTheir aim was to attract owners of early post war Heritage trials cars NOT fitted with fiddle brakes\, such as the Dellow\, Allard and HRG to bring their cars out again. These cars would not be competitive in current historic trials against the Cannons and the like. The response was amazing. If it had not been for the Coronavirus the Inaugural Heritage Trial would have taken place in June 2020 and there would have had at least 42 cars at the event with many new drivers. Finally\, the Inaugural Heritage Sporting Trial was held in July 2021 with some of the competitors entering a trial for the first time. Since the event HSTA has had interest from new competitors\, and some owners of heavily modified trials cars are even considering returning them to original format. \nThe 2023 Diffey Brothers Wessex Trial is open these Post War cars accepted by the HSTA as well as Pre War cars\, The Pre War entries will be selected by the organiser after entries close to reflect a broad spread of cars. \nHERITAGE Class: Post WW2 cars of a type which competed in sporting trials prior to 1956 e.g.\, Dellow. These vehicles must largely be in original period specification \nMODIFIED HERITAGE class: Modified post WW2 cars of a type which competed in sporting trials prior to 1956 e.g.\, Dellow. \nINVITATION / VSCC CLASS SHORT WHEEL BASE: Open period trials cars that do not conform to other classes but may be considered acceptable by the organisers in the spirit of the event. \nINVITATION / VSCC CLASS LONG WHEEL BASE: Open period trials cars that do not conform to other classes but may be considered acceptable by the organisers in the spirit of the event.
URL:https://www.allardownersclub.org/event/diffey-brothers-wessex-trial/
CATEGORIES:Competition,Trials
END:VEVENT
END:VCALENDAR