BEGIN:VCALENDAR
VERSION:2.0
PRODID:-//Allard Owners Club - ECPv6.15.17.1//NONSGML v1.0//EN
CALSCALE:GREGORIAN
METHOD:PUBLISH
X-ORIGINAL-URL:https://www.allardownersclub.org
X-WR-CALDESC:Events for Allard Owners Club
REFRESH-INTERVAL;VALUE=DURATION:PT1H
X-Robots-Tag:noindex
X-PUBLISHED-TTL:PT1H
BEGIN:VTIMEZONE
TZID:Europe/London
BEGIN:DAYLIGHT
TZOFFSETFROM:+0000
TZOFFSETTO:+0100
TZNAME:BST
DTSTART:20230326T010000
END:DAYLIGHT
BEGIN:STANDARD
TZOFFSETFROM:+0100
TZOFFSETTO:+0000
TZNAME:GMT
DTSTART:20231029T010000
END:STANDARD
BEGIN:DAYLIGHT
TZOFFSETFROM:+0000
TZOFFSETTO:+0100
TZNAME:BST
DTSTART:20240331T010000
END:DAYLIGHT
BEGIN:STANDARD
TZOFFSETFROM:+0100
TZOFFSETTO:+0000
TZNAME:GMT
DTSTART:20241027T010000
END:STANDARD
BEGIN:DAYLIGHT
TZOFFSETFROM:+0000
TZOFFSETTO:+0100
TZNAME:BST
DTSTART:20250330T010000
END:DAYLIGHT
BEGIN:STANDARD
TZOFFSETFROM:+0100
TZOFFSETTO:+0000
TZNAME:GMT
DTSTART:20251026T010000
END:STANDARD
END:VTIMEZONE
BEGIN:VEVENT
DTSTART;VALUE=DATE:20240914
DTEND;VALUE=DATE:20240916
DTSTAMP:20260423T063712
CREATED:20240213T075715Z
LAST-MODIFIED:20240720T105200Z
UID:6513-1726272000-1726444799@www.allardownersclub.org
SUMMARY:Shelsley Walsh Harvest Festival
DESCRIPTION:A great weekend of non-stop action amongst the longer shadows of Autumn where there is usually some very quick runs after a season of driving for everyone
URL:https://www.allardownersclub.org/event/shelsley-walsh-harvest-festival/
LOCATION:Shelsley Walsh Hill Climb\, Shelsley Walsh Hill Climb\, Worcester\, Worcestershire\, WR6 6RP\, United Kingdom
CATEGORIES:Competition,Hill Climbs
END:VEVENT
BEGIN:VEVENT
DTSTART;VALUE=DATE:20240928
DTEND;VALUE=DATE:20240929
DTSTAMP:20260423T063712
CREATED:20240213T075858Z
LAST-MODIFIED:20240301T061312Z
UID:6515-1727481600-1727567999@www.allardownersclub.org
SUMMARY:Prescott Hill Climb Vintage Long Course (VSCC)
DESCRIPTION:The VSCC return to Prescott for their Long Course championships\, taking in the famous Ettores Bend. \nThis one day event is open to the general public as well as VSCC and BOC members\, children under 16 are free.
URL:https://www.allardownersclub.org/event/prescott-hill-climb-vintage-long-course-vscc/
LOCATION:Prescott Hill Climb\, Bugatti Owners Club\, Gotherington\, Cheltenham\, GL52 9RE\, United Kingdom
CATEGORIES:Competition,Hill Climbs
END:VEVENT
END:VCALENDAR